BEGIN:VCALENDAR
VERSION:2.0
PRODID:-//Evergreen Park School - ECPv6.15.20//NONSGML v1.0//EN
CALSCALE:GREGORIAN
METHOD:PUBLISH
X-WR-CALNAME:Evergreen Park School
X-ORIGINAL-URL:https://evergreenpark.nbed.ca
X-WR-CALDESC:Events for Evergreen Park School
REFRESH-INTERVAL;VALUE=DURATION:PT1H
X-Robots-Tag:noindex
X-PUBLISHED-TTL:PT1H
BEGIN:VTIMEZONE
TZID:America/Moncton
BEGIN:DAYLIGHT
TZOFFSETFROM:-0400
TZOFFSETTO:-0300
TZNAME:ADT
DTSTART:20240310T060000
END:DAYLIGHT
BEGIN:STANDARD
TZOFFSETFROM:-0300
TZOFFSETTO:-0400
TZNAME:AST
DTSTART:20241103T050000
END:STANDARD
BEGIN:DAYLIGHT
TZOFFSETFROM:-0400
TZOFFSETTO:-0300
TZNAME:ADT
DTSTART:20250309T060000
END:DAYLIGHT
BEGIN:STANDARD
TZOFFSETFROM:-0300
TZOFFSETTO:-0400
TZNAME:AST
DTSTART:20251102T050000
END:STANDARD
BEGIN:DAYLIGHT
TZOFFSETFROM:-0400
TZOFFSETTO:-0300
TZNAME:ADT
DTSTART:20260308T060000
END:DAYLIGHT
BEGIN:STANDARD
TZOFFSETFROM:-0300
TZOFFSETTO:-0400
TZNAME:AST
DTSTART:20261101T050000
END:STANDARD
END:VTIMEZONE
BEGIN:VEVENT
DTSTART;VALUE=DATE:20250902
DTEND;VALUE=DATE:20250903
DTSTAMP:20260423T062358
CREATED:20250907T234719Z
LAST-MODIFIED:20250907T234719Z
UID:7092-1756771200-1756857599@evergreenpark.nbed.ca
SUMMARY:First Day of School for Students
DESCRIPTION:
URL:https://evergreenpark.nbed.ca/event/first-day-of-school-for-students/
END:VEVENT
BEGIN:VEVENT
DTSTART;VALUE=DATE:20250909
DTEND;VALUE=DATE:20250910
DTSTAMP:20260423T062358
CREATED:20250908T001631Z
LAST-MODIFIED:20250908T001631Z
UID:7141-1757376000-1757462399@evergreenpark.nbed.ca
SUMMARY:First Day of Cafeteria Service
DESCRIPTION:
URL:https://evergreenpark.nbed.ca/event/first-day-of-cafeteria-service/
END:VEVENT
BEGIN:VEVENT
DTSTART;TZID=America/Moncton:20250918T090000
DTEND;TZID=America/Moncton:20250918T094500
DTSTAMP:20260423T062358
CREATED:20250908T001757Z
LAST-MODIFIED:20250908T001757Z
UID:7143-1758186000-1758188700@evergreenpark.nbed.ca
SUMMARY:Lockdown Exercise
DESCRIPTION:
URL:https://evergreenpark.nbed.ca/event/lockdown-exercise-2/
END:VEVENT
BEGIN:VEVENT
DTSTART;VALUE=DATE:20250922
DTEND;VALUE=DATE:20250924
DTSTAMP:20260423T062358
CREATED:20250908T001518Z
LAST-MODIFIED:20250908T001518Z
UID:7137-1758499200-1758671999@evergreenpark.nbed.ca
SUMMARY:Picture Day
DESCRIPTION:
URL:https://evergreenpark.nbed.ca/event/picture-day-3/
END:VEVENT
BEGIN:VEVENT
DTSTART;TZID=America/Moncton:20250924T180000
DTEND;TZID=America/Moncton:20250924T193000
DTSTAMP:20260423T062358
CREATED:20250908T001558Z
LAST-MODIFIED:20250908T001558Z
UID:7139-1758736800-1758742200@evergreenpark.nbed.ca
SUMMARY:Meet The Teacher
DESCRIPTION:
URL:https://evergreenpark.nbed.ca/event/meet-the-teacher-4/
END:VEVENT
BEGIN:VEVENT
DTSTART;VALUE=DATE:20250926
DTEND;VALUE=DATE:20250927
DTSTAMP:20260423T062358
CREATED:20250907T234844Z
LAST-MODIFIED:20250907T235228Z
UID:7094-1758844800-1758931199@evergreenpark.nbed.ca
SUMMARY:Workday for Staff/ No school for Students
DESCRIPTION:
URL:https://evergreenpark.nbed.ca/event/no-school-for-students-8/
END:VEVENT
BEGIN:VEVENT
DTSTART;TZID=America/Moncton:20250930T080000
DTEND;TZID=America/Moncton:20250930T170000
DTSTAMP:20260423T062358
CREATED:20250907T234931Z
LAST-MODIFIED:20250907T235004Z
UID:7096-1759219200-1759251600@evergreenpark.nbed.ca
SUMMARY:No school for students and staff--School is closed/Holiday
DESCRIPTION:
URL:https://evergreenpark.nbed.ca/event/no-school-for-students-and-staff-school-is-closed/
END:VEVENT
END:VCALENDAR