BEGIN:VCALENDAR
VERSION:2.0
PRODID:-//Evergreen Park School - ECPv6.15.20//NONSGML v1.0//EN
CALSCALE:GREGORIAN
METHOD:PUBLISH
X-WR-CALNAME:Evergreen Park School
X-ORIGINAL-URL:https://evergreenpark.nbed.ca
X-WR-CALDESC:Events for Evergreen Park School
REFRESH-INTERVAL;VALUE=DURATION:PT1H
X-Robots-Tag:noindex
X-PUBLISHED-TTL:PT1H
BEGIN:VTIMEZONE
TZID:America/Moncton
BEGIN:DAYLIGHT
TZOFFSETFROM:-0400
TZOFFSETTO:-0300
TZNAME:ADT
DTSTART:20230312T060000
END:DAYLIGHT
BEGIN:STANDARD
TZOFFSETFROM:-0300
TZOFFSETTO:-0400
TZNAME:AST
DTSTART:20231105T050000
END:STANDARD
BEGIN:DAYLIGHT
TZOFFSETFROM:-0400
TZOFFSETTO:-0300
TZNAME:ADT
DTSTART:20240310T060000
END:DAYLIGHT
BEGIN:STANDARD
TZOFFSETFROM:-0300
TZOFFSETTO:-0400
TZNAME:AST
DTSTART:20241103T050000
END:STANDARD
BEGIN:DAYLIGHT
TZOFFSETFROM:-0400
TZOFFSETTO:-0300
TZNAME:ADT
DTSTART:20250309T060000
END:DAYLIGHT
BEGIN:STANDARD
TZOFFSETFROM:-0300
TZOFFSETTO:-0400
TZNAME:AST
DTSTART:20251102T050000
END:STANDARD
BEGIN:DAYLIGHT
TZOFFSETFROM:-0400
TZOFFSETTO:-0300
TZNAME:ADT
DTSTART:20260308T060000
END:DAYLIGHT
BEGIN:STANDARD
TZOFFSETFROM:-0300
TZOFFSETTO:-0400
TZNAME:AST
DTSTART:20261101T050000
END:STANDARD
END:VTIMEZONE
BEGIN:VEVENT
DTSTART;VALUE=DATE:20241202
DTEND;VALUE=DATE:20241206
DTSTAMP:20260423T201345
CREATED:20241114T134522Z
LAST-MODIFIED:20241114T134522Z
UID:6929-1733097600-1733443199@evergreenpark.nbed.ca
SUMMARY:Book Fair
DESCRIPTION:
URL:https://evergreenpark.nbed.ca/event/book-fair-4/
END:VEVENT
BEGIN:VEVENT
DTSTART;TZID=America/Moncton:20241202T080000
DTEND;TZID=America/Moncton:20241218T170000
DTSTAMP:20260423T201345
CREATED:20241129T190232Z
LAST-MODIFIED:20241129T190232Z
UID:6963-1733126400-1734541200@evergreenpark.nbed.ca
SUMMARY:Fill The Bus---non perishable food drive
DESCRIPTION:
URL:https://evergreenpark.nbed.ca/event/fill-the-bus-non-perishable-food-drive/
END:VEVENT
BEGIN:VEVENT
DTSTART;VALUE=DATE:20241206
DTEND;VALUE=DATE:20241207
DTSTAMP:20260423T201345
CREATED:20241010T114758Z
LAST-MODIFIED:20241010T114758Z
UID:6864-1733443200-1733529599@evergreenpark.nbed.ca
SUMMARY:Report Cards Issued
DESCRIPTION:
URL:https://evergreenpark.nbed.ca/event/report-cards-issued/
END:VEVENT
BEGIN:VEVENT
DTSTART;VALUE=DATE:20241210
DTEND;VALUE=DATE:20241211
DTSTAMP:20260423T201345
CREATED:20241114T134430Z
LAST-MODIFIED:20241122T185641Z
UID:6927-1733788800-1733875199@evergreenpark.nbed.ca
SUMMARY:Crazy hair/hat day - $1.00
DESCRIPTION:
URL:https://evergreenpark.nbed.ca/event/crazy-hair-hat-day-1-00/
END:VEVENT
BEGIN:VEVENT
DTSTART;TZID=America/Moncton:20241210T173000
DTEND;TZID=America/Moncton:20241210T193000
DTSTAMP:20260423T201345
CREATED:20241129T185341Z
LAST-MODIFIED:20241129T185341Z
UID:6955-1733851800-1733859000@evergreenpark.nbed.ca
SUMMARY:Bagel Pick up
DESCRIPTION:
URL:https://evergreenpark.nbed.ca/event/bagel-pick-up/
END:VEVENT
BEGIN:VEVENT
DTSTART;TZID=America/Moncton:20241211T173000
DTEND;TZID=America/Moncton:20241211T193000
DTSTAMP:20260423T201345
CREATED:20241129T185528Z
LAST-MODIFIED:20241129T185858Z
UID:6958-1733938200-1733945400@evergreenpark.nbed.ca
SUMMARY:Bagel Pick up #2
DESCRIPTION:Bagel Pick up
URL:https://evergreenpark.nbed.ca/event/6958/
END:VEVENT
BEGIN:VEVENT
DTSTART;TZID=America/Moncton:20241217T183000
DTEND;TZID=America/Moncton:20241217T193000
DTSTAMP:20260423T201345
CREATED:20241118T130544Z
LAST-MODIFIED:20241203T210546Z
UID:6940-1734460200-1734463800@evergreenpark.nbed.ca
SUMMARY:Kindergarten to Grade 2-- Christmas Concert
DESCRIPTION:
URL:https://evergreenpark.nbed.ca/event/kindergarten-to-grade-2-holiday-concert/
END:VEVENT
BEGIN:VEVENT
DTSTART;TZID=America/Moncton:20241219T173000
DTEND;TZID=America/Moncton:20241219T193000
DTSTAMP:20260423T201345
CREATED:20241003T145517Z
LAST-MODIFIED:20241003T145517Z
UID:6846-1734629400-1734636600@evergreenpark.nbed.ca
SUMMARY:Holiday Kickoff
DESCRIPTION:
URL:https://evergreenpark.nbed.ca/event/holiday-kickoff/
END:VEVENT
BEGIN:VEVENT
DTSTART;TZID=America/Moncton:20241223T080000
DTEND;TZID=America/Moncton:20250103T170000
DTSTAMP:20260423T201345
CREATED:20241010T114928Z
LAST-MODIFIED:20241010T114928Z
UID:6866-1734940800-1735923600@evergreenpark.nbed.ca
SUMMARY:HOLIDAYS - No School
DESCRIPTION:
URL:https://evergreenpark.nbed.ca/event/holidays-no-school/
END:VEVENT
END:VCALENDAR