BEGIN:VCALENDAR
VERSION:2.0
PRODID:-//Evergreen Park School - ECPv6.15.20//NONSGML v1.0//EN
CALSCALE:GREGORIAN
METHOD:PUBLISH
X-ORIGINAL-URL:https://evergreenpark.nbed.ca
X-WR-CALDESC:Events for Evergreen Park School
REFRESH-INTERVAL;VALUE=DURATION:PT1H
X-Robots-Tag:noindex
X-PUBLISHED-TTL:PT1H
BEGIN:VTIMEZONE
TZID:America/Moncton
BEGIN:DAYLIGHT
TZOFFSETFROM:-0400
TZOFFSETTO:-0300
TZNAME:ADT
DTSTART:20230312T060000
END:DAYLIGHT
BEGIN:STANDARD
TZOFFSETFROM:-0300
TZOFFSETTO:-0400
TZNAME:AST
DTSTART:20231105T050000
END:STANDARD
BEGIN:DAYLIGHT
TZOFFSETFROM:-0400
TZOFFSETTO:-0300
TZNAME:ADT
DTSTART:20240310T060000
END:DAYLIGHT
BEGIN:STANDARD
TZOFFSETFROM:-0300
TZOFFSETTO:-0400
TZNAME:AST
DTSTART:20241103T050000
END:STANDARD
BEGIN:DAYLIGHT
TZOFFSETFROM:-0400
TZOFFSETTO:-0300
TZNAME:ADT
DTSTART:20250309T060000
END:DAYLIGHT
BEGIN:STANDARD
TZOFFSETFROM:-0300
TZOFFSETTO:-0400
TZNAME:AST
DTSTART:20251102T050000
END:STANDARD
END:VTIMEZONE
BEGIN:VEVENT
DTSTART;TZID=America/Moncton:20240618T081500
DTEND;TZID=America/Moncton:20240618T110000
DTSTAMP:20260424T172502
CREATED:20240616T200041Z
LAST-MODIFIED:20240616T200041Z
UID:6688-1718698500-1718708400@evergreenpark.nbed.ca
SUMMARY:Field Day
DESCRIPTION:
URL:https://evergreenpark.nbed.ca/event/field-day-2/
END:VEVENT
BEGIN:VEVENT
DTSTART;VALUE=DATE:20240621
DTEND;VALUE=DATE:20240622
DTSTAMP:20260424T172502
CREATED:20240616T200113Z
LAST-MODIFIED:20240616T200113Z
UID:6690-1718928000-1719014399@evergreenpark.nbed.ca
SUMMARY:Last Day of School
DESCRIPTION:
URL:https://evergreenpark.nbed.ca/event/last-day-of-school-3/
END:VEVENT
END:VCALENDAR