BEGIN:VCALENDAR
VERSION:2.0
PRODID:-//Evergreen Park School - ECPv6.15.20//NONSGML v1.0//EN
CALSCALE:GREGORIAN
METHOD:PUBLISH
X-ORIGINAL-URL:https://evergreenpark.nbed.ca
X-WR-CALDESC:Events for Evergreen Park School
REFRESH-INTERVAL;VALUE=DURATION:PT1H
X-Robots-Tag:noindex
X-PUBLISHED-TTL:PT1H
BEGIN:VTIMEZONE
TZID:America/Moncton
BEGIN:DAYLIGHT
TZOFFSETFROM:-0400
TZOFFSETTO:-0300
TZNAME:ADT
DTSTART:20230312T060000
END:DAYLIGHT
BEGIN:STANDARD
TZOFFSETFROM:-0300
TZOFFSETTO:-0400
TZNAME:AST
DTSTART:20231105T050000
END:STANDARD
BEGIN:DAYLIGHT
TZOFFSETFROM:-0400
TZOFFSETTO:-0300
TZNAME:ADT
DTSTART:20240310T060000
END:DAYLIGHT
BEGIN:STANDARD
TZOFFSETFROM:-0300
TZOFFSETTO:-0400
TZNAME:AST
DTSTART:20241103T050000
END:STANDARD
BEGIN:DAYLIGHT
TZOFFSETFROM:-0400
TZOFFSETTO:-0300
TZNAME:ADT
DTSTART:20250309T060000
END:DAYLIGHT
BEGIN:STANDARD
TZOFFSETFROM:-0300
TZOFFSETTO:-0400
TZNAME:AST
DTSTART:20251102T050000
END:STANDARD
END:VTIMEZONE
BEGIN:VEVENT
DTSTART;VALUE=DATE:20240401
DTEND;VALUE=DATE:20240402
DTSTAMP:20260424T201900
CREATED:20240317T181620Z
LAST-MODIFIED:20240317T181620Z
UID:6579-1711929600-1712015999@evergreenpark.nbed.ca
SUMMARY:School closed--Easter Monday
DESCRIPTION:
URL:https://evergreenpark.nbed.ca/event/school-closed-easter-monday/
END:VEVENT
BEGIN:VEVENT
DTSTART;TZID=America/Moncton:20240428T080000
DTEND;TZID=America/Moncton:20240428T170000
DTSTAMP:20260424T201900
CREATED:20240428T102345Z
LAST-MODIFIED:20240428T102345Z
UID:6633-1714291200-1714323600@evergreenpark.nbed.ca
SUMMARY:Friday\, May 3rd\, 2024---No school for students---NBTA  Council Day
DESCRIPTION:
URL:https://evergreenpark.nbed.ca/event/friday-may-3rd-2024-no-school-for-students-nbta-council-day/
END:VEVENT
END:VCALENDAR