BEGIN:VCALENDAR
VERSION:2.0
PRODID:-//Evergreen Park School - ECPv6.15.20//NONSGML v1.0//EN
CALSCALE:GREGORIAN
METHOD:PUBLISH
X-WR-CALNAME:Evergreen Park School
X-ORIGINAL-URL:https://evergreenpark.nbed.ca
X-WR-CALDESC:Events for Evergreen Park School
REFRESH-INTERVAL;VALUE=DURATION:PT1H
X-Robots-Tag:noindex
X-PUBLISHED-TTL:PT1H
BEGIN:VTIMEZONE
TZID:America/Moncton
BEGIN:DAYLIGHT
TZOFFSETFROM:-0400
TZOFFSETTO:-0300
TZNAME:ADT
DTSTART:20230312T060000
END:DAYLIGHT
BEGIN:STANDARD
TZOFFSETFROM:-0300
TZOFFSETTO:-0400
TZNAME:AST
DTSTART:20231105T050000
END:STANDARD
BEGIN:DAYLIGHT
TZOFFSETFROM:-0400
TZOFFSETTO:-0300
TZNAME:ADT
DTSTART:20240310T060000
END:DAYLIGHT
BEGIN:STANDARD
TZOFFSETFROM:-0300
TZOFFSETTO:-0400
TZNAME:AST
DTSTART:20241103T050000
END:STANDARD
BEGIN:DAYLIGHT
TZOFFSETFROM:-0400
TZOFFSETTO:-0300
TZNAME:ADT
DTSTART:20250309T060000
END:DAYLIGHT
BEGIN:STANDARD
TZOFFSETFROM:-0300
TZOFFSETTO:-0400
TZNAME:AST
DTSTART:20251102T050000
END:STANDARD
END:VTIMEZONE
BEGIN:VEVENT
DTSTART;VALUE=DATE:20240120
DTEND;VALUE=DATE:20240121
DTSTAMP:20260425T000633
CREATED:20240111T181924Z
LAST-MODIFIED:20240111T181924Z
UID:6479-1705708800-1705795199@evergreenpark.nbed.ca
SUMMARY:Chess Tournament---Crandall University
DESCRIPTION:
URL:https://evergreenpark.nbed.ca/event/chess-tournament-crandall-university/
END:VEVENT
BEGIN:VEVENT
DTSTART;VALUE=DATE:20240122
DTEND;VALUE=DATE:20240127
DTSTAMP:20260425T000633
CREATED:20240121T194614Z
LAST-MODIFIED:20240121T194614Z
UID:6523-1705881600-1706313599@evergreenpark.nbed.ca
SUMMARY:Literacy Week---Various activities taking place all week
DESCRIPTION:Mr. MacLEAN\, Superinendent/CEO\, and other special guests will be reading to our students on Friday\, January 26th to celebrate Literacy Week.
URL:https://evergreenpark.nbed.ca/event/literacy-week-various-activities-taking-place-all-week/
END:VEVENT
BEGIN:VEVENT
DTSTART;TZID=America/Moncton:20240125T180000
DTEND;TZID=America/Moncton:20240125T200000
DTSTAMP:20260425T000633
CREATED:20240121T194157Z
LAST-MODIFIED:20240121T194157Z
UID:6520-1706205600-1706212800@evergreenpark.nbed.ca
SUMMARY:Movie Night
DESCRIPTION:
URL:https://evergreenpark.nbed.ca/event/movie-night-3/
END:VEVENT
BEGIN:VEVENT
DTSTART;TZID=America/Moncton:20240130T180000
DTEND;TZID=America/Moncton:20240130T193000
DTSTAMP:20260425T000633
CREATED:20240111T181746Z
LAST-MODIFIED:20240111T181746Z
UID:6477-1706637600-1706643000@evergreenpark.nbed.ca
SUMMARY:General meeting at Bernice MacNaughton High School---information session to review changes for next school year
DESCRIPTION:
URL:https://evergreenpark.nbed.ca/event/general-meeting-at-bernice-macnaughton-high-school-information-session-to-review-changes-for-next-school-year/
END:VEVENT
END:VCALENDAR