BEGIN:VCALENDAR
VERSION:2.0
PRODID:-//Evergreen Park School - ECPv6.15.20//NONSGML v1.0//EN
CALSCALE:GREGORIAN
METHOD:PUBLISH
X-WR-CALNAME:Evergreen Park School
X-ORIGINAL-URL:https://evergreenpark.nbed.ca
X-WR-CALDESC:Events for Evergreen Park School
REFRESH-INTERVAL;VALUE=DURATION:PT1H
X-Robots-Tag:noindex
X-PUBLISHED-TTL:PT1H
BEGIN:VTIMEZONE
TZID:America/Moncton
BEGIN:DAYLIGHT
TZOFFSETFROM:-0400
TZOFFSETTO:-0300
TZNAME:ADT
DTSTART:20220313T060000
END:DAYLIGHT
BEGIN:STANDARD
TZOFFSETFROM:-0300
TZOFFSETTO:-0400
TZNAME:AST
DTSTART:20221106T050000
END:STANDARD
BEGIN:DAYLIGHT
TZOFFSETFROM:-0400
TZOFFSETTO:-0300
TZNAME:ADT
DTSTART:20230312T060000
END:DAYLIGHT
BEGIN:STANDARD
TZOFFSETFROM:-0300
TZOFFSETTO:-0400
TZNAME:AST
DTSTART:20231105T050000
END:STANDARD
BEGIN:DAYLIGHT
TZOFFSETFROM:-0400
TZOFFSETTO:-0300
TZNAME:ADT
DTSTART:20240310T060000
END:DAYLIGHT
BEGIN:STANDARD
TZOFFSETFROM:-0300
TZOFFSETTO:-0400
TZNAME:AST
DTSTART:20241103T050000
END:STANDARD
END:VTIMEZONE
BEGIN:VEVENT
DTSTART;VALUE=DATE:20230505
DTEND;VALUE=DATE:20230506
DTSTAMP:20260425T091136
CREATED:20230507T150802Z
LAST-MODIFIED:20230507T150802Z
UID:3003-1683244800-1683331199@evergreenpark.nbed.ca
SUMMARY:No school for students
DESCRIPTION:
URL:https://evergreenpark.nbed.ca/event/no-school-for-students-3/
END:VEVENT
BEGIN:VEVENT
DTSTART;VALUE=DATE:20230508
DTEND;VALUE=DATE:20230527
DTSTAMP:20260425T091136
CREATED:20230327T235642Z
LAST-MODIFIED:20230327T235642Z
UID:2982-1683504000-1685145599@evergreenpark.nbed.ca
SUMMARY:Grades 4 and 5 provincial assessments
DESCRIPTION:
URL:https://evergreenpark.nbed.ca/event/grades-4-and-5-provincial-assessments/
END:VEVENT
BEGIN:VEVENT
DTSTART;TZID=America/Moncton:20230518T173000
DTEND;TZID=America/Moncton:20230518T173000
DTSTAMP:20260425T091136
CREATED:20230514T170738Z
LAST-MODIFIED:20230514T170738Z
UID:3015-1684431000-1684431000@evergreenpark.nbed.ca
SUMMARY:Movie Night
DESCRIPTION:Movie night hosted by Home and School. \nPuss in Boots – The Last Wish. Admission is $2 dollars per person or $5 dollars per family. Feel free to bring blankets or pillows to set up on the gym floor. Lawn chairs can be set up at the back of the gym. A small canteen will be available. Please note all students must be accompanied by a parent or guardian.
URL:https://evergreenpark.nbed.ca/event/movie-night/
END:VEVENT
BEGIN:VEVENT
DTSTART;VALUE=DATE:20230519
DTEND;VALUE=DATE:20230520
DTSTAMP:20260425T091136
CREATED:20230507T150538Z
LAST-MODIFIED:20230507T150538Z
UID:2998-1684454400-1684540799@evergreenpark.nbed.ca
SUMMARY:No school for students--NBTA Branch Day/YESS Day for Educational Assistantss
DESCRIPTION:Students stay home. \nTeachers—NBTA Branch Day \nEducational Assitants—YESS DAY
URL:https://evergreenpark.nbed.ca/event/no-school-for-students-nbta-branch-day-yess-day-for-educational-assistantss/
END:VEVENT
BEGIN:VEVENT
DTSTART;VALUE=DATE:20230522
DTEND;VALUE=DATE:20230523
DTSTAMP:20260425T091136
CREATED:20230507T151622Z
LAST-MODIFIED:20230507T151622Z
UID:3010-1684713600-1684799999@evergreenpark.nbed.ca
SUMMARY:School is closed --Victoria Day (long weekend)
DESCRIPTION:
URL:https://evergreenpark.nbed.ca/event/school-is-closed-victoria-day-long-weekend/
END:VEVENT
BEGIN:VEVENT
DTSTART;VALUE=DATE:20230526
DTEND;VALUE=DATE:20230527
DTSTAMP:20260425T091136
CREATED:20230514T171319Z
LAST-MODIFIED:20230514T171319Z
UID:3017-1685059200-1685145599@evergreenpark.nbed.ca
SUMMARY:Garbage Bag campaignDed
DESCRIPTION:Deadline for garbage bag campaign is May 26th\, 2023.
URL:https://evergreenpark.nbed.ca/event/garbage-bag-campaignded/
END:VEVENT
BEGIN:VEVENT
DTSTART;VALUE=DATE:20230530
DTEND;VALUE=DATE:20230531
DTSTAMP:20260425T091136
CREATED:20230507T151257Z
LAST-MODIFIED:20230507T151257Z
UID:3005-1685404800-1685491199@evergreenpark.nbed.ca
SUMMARY:Pre-kindergarten student orientation session/kindergarten students stay home
DESCRIPTION:Kindergarten students stay home.  Pre-kindergarten students attend school with their parents. \nPlease refer to the schedule below to see what time your child will attend their kindergarten orientation. You and your child will be able to take a 15 minute bus ride after your allotted time. \n  \nLast Name  \nA-D  8:50-9:45 \nE-H  9:45-10:30 \nJ-N  10:45-11:30 \n0-Z  11:30-12:15 \nWe look forward to seeing all of you on Tuesday\, May 30th. Please call the school (856-3476) if your child is unable to attend the kindergarten orientation at their scheduled time by Wednesday\, May 24th. \n  \n***A talkmail and an email will be sent to pre-kindergarten parents by May 10th\, 2023.
URL:https://evergreenpark.nbed.ca/event/pre-kindergarten-student-orientation-session-kindergarten-students-stay-home/
END:VEVENT
END:VCALENDAR