BEGIN:VCALENDAR
VERSION:2.0
PRODID:-//Evergreen Park School - ECPv6.15.20//NONSGML v1.0//EN
CALSCALE:GREGORIAN
METHOD:PUBLISH
X-ORIGINAL-URL:https://evergreenpark.nbed.ca
X-WR-CALDESC:Events for Evergreen Park School
REFRESH-INTERVAL;VALUE=DURATION:PT1H
X-Robots-Tag:noindex
X-PUBLISHED-TTL:PT1H
BEGIN:VTIMEZONE
TZID:America/Moncton
BEGIN:DAYLIGHT
TZOFFSETFROM:-0400
TZOFFSETTO:-0300
TZNAME:ADT
DTSTART:20220313T060000
END:DAYLIGHT
BEGIN:STANDARD
TZOFFSETFROM:-0300
TZOFFSETTO:-0400
TZNAME:AST
DTSTART:20221106T050000
END:STANDARD
BEGIN:DAYLIGHT
TZOFFSETFROM:-0400
TZOFFSETTO:-0300
TZNAME:ADT
DTSTART:20230312T060000
END:DAYLIGHT
BEGIN:STANDARD
TZOFFSETFROM:-0300
TZOFFSETTO:-0400
TZNAME:AST
DTSTART:20231105T050000
END:STANDARD
BEGIN:DAYLIGHT
TZOFFSETFROM:-0400
TZOFFSETTO:-0300
TZNAME:ADT
DTSTART:20240310T060000
END:DAYLIGHT
BEGIN:STANDARD
TZOFFSETFROM:-0300
TZOFFSETTO:-0400
TZNAME:AST
DTSTART:20241103T050000
END:STANDARD
END:VTIMEZONE
BEGIN:VEVENT
DTSTART;VALUE=DATE:20230406
DTEND;VALUE=DATE:20230407
DTSTAMP:20260425T103854
CREATED:20230327T233128Z
LAST-MODIFIED:20230327T233128Z
UID:2957-1680739200-1680825599@evergreenpark.nbed.ca
SUMMARY:Report Cards --term 2
DESCRIPTION:
URL:https://evergreenpark.nbed.ca/event/report-cards-term-2/
END:VEVENT
BEGIN:VEVENT
DTSTART;TZID=America/Moncton:20230406T080000
DTEND;TZID=America/Moncton:20230406T170000
DTSTAMP:20260425T103854
CREATED:20230327T233307Z
LAST-MODIFIED:20230327T233307Z
UID:2959-1680768000-1680800400@evergreenpark.nbed.ca
SUMMARY:Mad Science afterschool six- week program --start
DESCRIPTION:K-2 …1:35-2:35 \n  \nGrades 3-5…2:35-3:35
URL:https://evergreenpark.nbed.ca/event/mad-science-afterschool-six-week-program-start/
END:VEVENT
BEGIN:VEVENT
DTSTART;VALUE=DATE:20230407
DTEND;VALUE=DATE:20230408
DTSTAMP:20260425T103854
CREATED:20230327T233348Z
LAST-MODIFIED:20230327T233348Z
UID:2961-1680825600-1680911999@evergreenpark.nbed.ca
SUMMARY:School is closed-Good Friday
DESCRIPTION:
URL:https://evergreenpark.nbed.ca/event/school-is-closed-good-friday/
END:VEVENT
BEGIN:VEVENT
DTSTART;VALUE=DATE:20230410
DTEND;VALUE=DATE:20230411
DTSTAMP:20260425T103854
CREATED:20230327T233432Z
LAST-MODIFIED:20230327T233432Z
UID:2964-1681084800-1681171199@evergreenpark.nbed.ca
SUMMARY:No school--Easter Monday
DESCRIPTION:
URL:https://evergreenpark.nbed.ca/event/no-school-easter-monday-2/
END:VEVENT
BEGIN:VEVENT
DTSTART;TZID=America/Moncton:20230412T083000
DTEND;TZID=America/Moncton:20230412T113000
DTSTAMP:20260425T103854
CREATED:20230327T233602Z
LAST-MODIFIED:20230327T233602Z
UID:2966-1681288200-1681299000@evergreenpark.nbed.ca
SUMMARY:MAGMA presentation  --grade 3-5 students
DESCRIPTION:
URL:https://evergreenpark.nbed.ca/event/magma-presentation-grade-3-5-students/
END:VEVENT
BEGIN:VEVENT
DTSTART;TZID=America/Moncton:20230413T080000
DTEND;TZID=America/Moncton:20230413T113000
DTSTAMP:20260425T103854
CREATED:20230327T233649Z
LAST-MODIFIED:20230327T233649Z
UID:2968-1681372800-1681385400@evergreenpark.nbed.ca
SUMMARY:MAGMA presentations--grades 3-5
DESCRIPTION:
URL:https://evergreenpark.nbed.ca/event/magma-presentations-grades-3-5/
END:VEVENT
BEGIN:VEVENT
DTSTART;TZID=America/Moncton:20230413T173000
DTEND;TZID=America/Moncton:20230413T193000
DTSTAMP:20260425T103854
CREATED:20230327T233821Z
LAST-MODIFIED:20230327T233821Z
UID:2970-1681407000-1681414200@evergreenpark.nbed.ca
SUMMARY:Student-led conference/parent teacher
DESCRIPTION:
URL:https://evergreenpark.nbed.ca/event/student-led-conference-parent-teacher/
END:VEVENT
BEGIN:VEVENT
DTSTART;VALUE=DATE:20230414
DTEND;VALUE=DATE:20230415
DTSTAMP:20260425T103854
CREATED:20230327T234112Z
LAST-MODIFIED:20230327T234112Z
UID:2972-1681430400-1681516799@evergreenpark.nbed.ca
SUMMARY:No school for students/student led conferences in the morning
DESCRIPTION:Student- led conferences in the morning (8:30-11:30) \nProfessional learning for staff in the afternoon. \nStudents stay home all day.
URL:https://evergreenpark.nbed.ca/event/no-school-for-students-student-led-conferences-in-the-morning/
END:VEVENT
BEGIN:VEVENT
DTSTART;VALUE=DATE:20230417
DTEND;VALUE=DATE:20230422
DTSTAMP:20260425T103854
CREATED:20230327T234212Z
LAST-MODIFIED:20230327T234212Z
UID:2974-1681689600-1682121599@evergreenpark.nbed.ca
SUMMARY:Book Fair
DESCRIPTION:
URL:https://evergreenpark.nbed.ca/event/book-fair/
END:VEVENT
BEGIN:VEVENT
DTSTART;TZID=America/Moncton:20230418T080000
DTEND;TZID=America/Moncton:20230418T113000
DTSTAMP:20260425T103854
CREATED:20230327T234328Z
LAST-MODIFIED:20230327T234328Z
UID:2976-1681804800-1681817400@evergreenpark.nbed.ca
SUMMARY:MAGMA presentations--grades K-2
DESCRIPTION:
URL:https://evergreenpark.nbed.ca/event/magma-presentations-grades-k-2/
END:VEVENT
BEGIN:VEVENT
DTSTART;TZID=America/Moncton:20230419T080000
DTEND;TZID=America/Moncton:20230419T113000
DTSTAMP:20260425T103854
CREATED:20230327T234421Z
LAST-MODIFIED:20230327T234421Z
UID:2978-1681891200-1681903800@evergreenpark.nbed.ca
SUMMARY:MAGMA presentations--K-2
DESCRIPTION:
URL:https://evergreenpark.nbed.ca/event/magma-presentations-k-2/
END:VEVENT
END:VCALENDAR