BEGIN:VCALENDAR
VERSION:2.0
PRODID:-//Evergreen Park School - ECPv6.15.20//NONSGML v1.0//EN
CALSCALE:GREGORIAN
METHOD:PUBLISH
X-WR-CALNAME:Evergreen Park School
X-ORIGINAL-URL:https://evergreenpark.nbed.ca
X-WR-CALDESC:Events for Evergreen Park School
REFRESH-INTERVAL;VALUE=DURATION:PT1H
X-Robots-Tag:noindex
X-PUBLISHED-TTL:PT1H
BEGIN:VTIMEZONE
TZID:America/Moncton
BEGIN:DAYLIGHT
TZOFFSETFROM:-0400
TZOFFSETTO:-0300
TZNAME:ADT
DTSTART:20220313T060000
END:DAYLIGHT
BEGIN:STANDARD
TZOFFSETFROM:-0300
TZOFFSETTO:-0400
TZNAME:AST
DTSTART:20221106T050000
END:STANDARD
BEGIN:DAYLIGHT
TZOFFSETFROM:-0400
TZOFFSETTO:-0300
TZNAME:ADT
DTSTART:20230312T060000
END:DAYLIGHT
BEGIN:STANDARD
TZOFFSETFROM:-0300
TZOFFSETTO:-0400
TZNAME:AST
DTSTART:20231105T050000
END:STANDARD
BEGIN:DAYLIGHT
TZOFFSETFROM:-0400
TZOFFSETTO:-0300
TZNAME:ADT
DTSTART:20240310T060000
END:DAYLIGHT
BEGIN:STANDARD
TZOFFSETFROM:-0300
TZOFFSETTO:-0400
TZNAME:AST
DTSTART:20241103T050000
END:STANDARD
END:VTIMEZONE
BEGIN:VEVENT
DTSTART;VALUE=DATE:20230206
DTEND;VALUE=DATE:20230211
DTSTAMP:20260425T131337
CREATED:20230127T170048Z
LAST-MODIFIED:20230127T170048Z
UID:2756-1675641600-1676073599@evergreenpark.nbed.ca
SUMMARY:Literacy week
DESCRIPTION:
URL:https://evergreenpark.nbed.ca/event/literacy-week/
END:VEVENT
BEGIN:VEVENT
DTSTART;VALUE=DATE:20230206
DTEND;VALUE=DATE:20230211
DTSTAMP:20260425T131337
CREATED:20230127T170510Z
LAST-MODIFIED:20230127T170510Z
UID:2758-1675641600-1676073599@evergreenpark.nbed.ca
SUMMARY:Jump Rope For Heart Week
DESCRIPTION:
URL:https://evergreenpark.nbed.ca/event/jump-rope-for-heart-week/
END:VEVENT
BEGIN:VEVENT
DTSTART;VALUE=DATE:20230206
DTEND;VALUE=DATE:20230207
DTSTAMP:20260425T131337
CREATED:20230205T193316Z
LAST-MODIFIED:20230205T193316Z
UID:2782-1675641600-1675727999@evergreenpark.nbed.ca
SUMMARY:Rainbow Day---
DESCRIPTION:Show your love for reading by getting colourful!  How many colours of the rainbow can you wear?
URL:https://evergreenpark.nbed.ca/event/rainbow-day/
END:VEVENT
BEGIN:VEVENT
DTSTART;VALUE=DATE:20230207
DTEND;VALUE=DATE:20230208
DTSTAMP:20260425T131337
CREATED:20230205T193422Z
LAST-MODIFIED:20230205T193422Z
UID:2785-1675728000-1675814399@evergreenpark.nbed.ca
SUMMARY:Canada Day---
DESCRIPTION:Let’s celebrate our wonderful country by wearing red and white!
URL:https://evergreenpark.nbed.ca/event/canada-day/
END:VEVENT
BEGIN:VEVENT
DTSTART;VALUE=DATE:20230208
DTEND;VALUE=DATE:20230209
DTSTAMP:20260425T131337
CREATED:20230205T193727Z
LAST-MODIFIED:20230205T193727Z
UID:2787-1675814400-1675900799@evergreenpark.nbed.ca
SUMMARY:Extra! Extra! It's newspaper day!
DESCRIPTION:Celebrate this form of print by wearing black and white.
URL:https://evergreenpark.nbed.ca/event/extra-extra-its-newspaper-day/
END:VEVENT
BEGIN:VEVENT
DTSTART;VALUE=DATE:20230209
DTEND;VALUE=DATE:20230210
DTSTAMP:20260425T131337
CREATED:20230205T194418Z
LAST-MODIFIED:20230205T204315Z
UID:2794-1675900800-1675987199@evergreenpark.nbed.ca
SUMMARY:Dress up as your favorite book character.
DESCRIPTION:  \n***A CHAGE FROM WHAT WAS SENT HOME PREVIOUSLY \n  \n3 participants will take home gift cards from either Chapters or Dollarama (selected by a random draw).
URL:https://evergreenpark.nbed.ca/event/dress-up-as-your-favorite-book-character/
END:VEVENT
BEGIN:VEVENT
DTSTART;VALUE=DATE:20230210
DTEND;VALUE=DATE:20230211
DTSTAMP:20260425T131337
CREATED:20230205T193919Z
LAST-MODIFIED:20230205T204443Z
UID:2789-1675987200-1676073599@evergreenpark.nbed.ca
SUMMARY:Kick up your heels for reading!
DESCRIPTION:***A CHANGE FROM WHAT WAS SENT HOME PREVIOUSLY \n  \n***Wear your most unique and crazy socks or legwarmers.  Mix and match for even more fun!
URL:https://evergreenpark.nbed.ca/event/kick-up-your-heels-for-reading/
END:VEVENT
BEGIN:VEVENT
DTSTART;TZID=America/Moncton:20230210T183000
DTEND;TZID=America/Moncton:20230210T200000
DTSTAMP:20260425T131337
CREATED:20230127T170747Z
LAST-MODIFIED:20230127T170747Z
UID:2760-1676053800-1676059200@evergreenpark.nbed.ca
SUMMARY:Movie Night--hosted by Home and School
DESCRIPTION:
URL:https://evergreenpark.nbed.ca/event/movie-night-hosted-by-home-and-school/
END:VEVENT
BEGIN:VEVENT
DTSTART;TZID=America/Moncton:20230213T080000
DTEND;TZID=America/Moncton:20230217T170000
DTSTAMP:20260425T131337
CREATED:20230127T170934Z
LAST-MODIFIED:20230127T170934Z
UID:2763-1676275200-1676653200@evergreenpark.nbed.ca
SUMMARY:Staff Appreciation Week
DESCRIPTION:
URL:https://evergreenpark.nbed.ca/event/staff-appreciation-week/
END:VEVENT
BEGIN:VEVENT
DTSTART;TZID=America/Moncton:20230215T080000
DTEND;TZID=America/Moncton:20230215T170000
DTSTAMP:20260425T131337
CREATED:20230127T171223Z
LAST-MODIFIED:20230127T171223Z
UID:2765-1676448000-1676480400@evergreenpark.nbed.ca
SUMMARY:TNB Youth Company---presentation
DESCRIPTION:(K- Grade 2)   Will be invited to see the presentation at 10:00 a.m. \n(Gr. 3\,4 and 5) Will be invited to see the presentation at 1:00 p.m.
URL:https://evergreenpark.nbed.ca/event/tnb-youth-company-presentation/
END:VEVENT
BEGIN:VEVENT
DTSTART;TZID=America/Moncton:20230220T080000
DTEND;TZID=America/Moncton:20230224T170000
DTSTAMP:20260425T131337
CREATED:20230127T171318Z
LAST-MODIFIED:20230127T171336Z
UID:2767-1676880000-1677258000@evergreenpark.nbed.ca
SUMMARY:Kindness week
DESCRIPTION:
URL:https://evergreenpark.nbed.ca/event/kindness-week/
END:VEVENT
BEGIN:VEVENT
DTSTART;VALUE=DATE:20230222
DTEND;VALUE=DATE:20230223
DTSTAMP:20260425T131337
CREATED:20230127T171528Z
LAST-MODIFIED:20230127T171528Z
UID:2769-1677024000-1677110399@evergreenpark.nbed.ca
SUMMARY:Pink Shirt Day
DESCRIPTION:All staff and studnets are encouraged to wear PINK.
URL:https://evergreenpark.nbed.ca/event/pink-shirt-day/
END:VEVENT
BEGIN:VEVENT
DTSTART;TZID=America/Moncton:20230223T150000
DTEND;TZID=America/Moncton:20230223T160000
DTSTAMP:20260425T131337
CREATED:20230127T171655Z
LAST-MODIFIED:20230127T171655Z
UID:2771-1677164400-1677168000@evergreenpark.nbed.ca
SUMMARY:Pre-Kindergarten students--Meet and Greet session #1
DESCRIPTION:
URL:https://evergreenpark.nbed.ca/event/pre-kindergarten-students-meet-and-greet-session-1/
END:VEVENT
BEGIN:VEVENT
DTSTART;TZID=America/Moncton:20230228T083000
DTEND;TZID=America/Moncton:20230228T123000
DTSTAMP:20260425T131337
CREATED:20230127T171842Z
LAST-MODIFIED:20230127T172048Z
UID:2773-1677573000-1677587400@evergreenpark.nbed.ca
SUMMARY:Capitol Theater--Sound of Music
DESCRIPTION:Students in grades 3\,4 and 5 will attend a presentation of the musical Sound of Music.
URL:https://evergreenpark.nbed.ca/event/capitol-theater-sound-of-music/
END:VEVENT
END:VCALENDAR