BEGIN:VCALENDAR
VERSION:2.0
PRODID:-//Evergreen Park School - ECPv6.15.20//NONSGML v1.0//EN
CALSCALE:GREGORIAN
METHOD:PUBLISH
X-WR-CALNAME:Evergreen Park School
X-ORIGINAL-URL:https://evergreenpark.nbed.ca
X-WR-CALDESC:Events for Evergreen Park School
REFRESH-INTERVAL;VALUE=DURATION:PT1H
X-Robots-Tag:noindex
X-PUBLISHED-TTL:PT1H
BEGIN:VTIMEZONE
TZID:America/Moncton
BEGIN:DAYLIGHT
TZOFFSETFROM:-0400
TZOFFSETTO:-0300
TZNAME:ADT
DTSTART:20210314T060000
END:DAYLIGHT
BEGIN:STANDARD
TZOFFSETFROM:-0300
TZOFFSETTO:-0400
TZNAME:AST
DTSTART:20211107T050000
END:STANDARD
BEGIN:DAYLIGHT
TZOFFSETFROM:-0400
TZOFFSETTO:-0300
TZNAME:ADT
DTSTART:20220313T060000
END:DAYLIGHT
BEGIN:STANDARD
TZOFFSETFROM:-0300
TZOFFSETTO:-0400
TZNAME:AST
DTSTART:20221106T050000
END:STANDARD
BEGIN:DAYLIGHT
TZOFFSETFROM:-0400
TZOFFSETTO:-0300
TZNAME:ADT
DTSTART:20230312T060000
END:DAYLIGHT
BEGIN:STANDARD
TZOFFSETFROM:-0300
TZOFFSETTO:-0400
TZNAME:AST
DTSTART:20231105T050000
END:STANDARD
END:VTIMEZONE
BEGIN:VEVENT
DTSTART;VALUE=DATE:20221103
DTEND;VALUE=DATE:20221104
DTSTAMP:20260425T221955
CREATED:20221101T135528Z
LAST-MODIFIED:20221101T135528Z
UID:2607-1667433600-1667519999@evergreenpark.nbed.ca
SUMMARY:Picture Orders are due
DESCRIPTION:
URL:https://evergreenpark.nbed.ca/event/picture-orders-are-due/
END:VEVENT
BEGIN:VEVENT
DTSTART;TZID=America/Moncton:20221109T183000
DTEND;TZID=America/Moncton:20221109T193000
DTSTAMP:20260425T221955
CREATED:20221103T173913Z
LAST-MODIFIED:20221106T214940Z
UID:2614-1668018600-1668022200@evergreenpark.nbed.ca
SUMMARY:PSSC meeting (computer room and virtually)
DESCRIPTION:
URL:https://evergreenpark.nbed.ca/event/pssc-meeting-computer-room-and-virtually/
END:VEVENT
BEGIN:VEVENT
DTSTART;TZID=America/Moncton:20221110T100000
DTEND;TZID=America/Moncton:20221110T110000
DTSTAMP:20260425T221955
CREATED:20221106T215036Z
LAST-MODIFIED:20221106T215036Z
UID:2619-1668074400-1668078000@evergreenpark.nbed.ca
SUMMARY:Remembrance Day--- Assembly
DESCRIPTION:
URL:https://evergreenpark.nbed.ca/event/remembrance-day-assembly/
END:VEVENT
BEGIN:VEVENT
DTSTART;VALUE=DATE:20221111
DTEND;VALUE=DATE:20221112
DTSTAMP:20260425T221955
CREATED:20221101T135142Z
LAST-MODIFIED:20221101T135142Z
UID:2599-1668124800-1668211199@evergreenpark.nbed.ca
SUMMARY:November 11th---school is closed
DESCRIPTION:
URL:https://evergreenpark.nbed.ca/event/november-11th-school-is-closed/
END:VEVENT
BEGIN:VEVENT
DTSTART;TZID=America/Moncton:20221117T160000
DTEND;TZID=America/Moncton:20221117T170000
DTSTAMP:20260425T221955
CREATED:20221106T215301Z
LAST-MODIFIED:20221106T215301Z
UID:2622-1668700800-1668704400@evergreenpark.nbed.ca
SUMMARY:Pre-Kindergarten Orientation
DESCRIPTION:
URL:https://evergreenpark.nbed.ca/event/pre-kindergarten-orientation/
END:VEVENT
BEGIN:VEVENT
DTSTART;VALUE=DATE:20221118
DTEND;VALUE=DATE:20221119
DTSTAMP:20260425T221955
CREATED:20221101T135249Z
LAST-MODIFIED:20221101T135249Z
UID:2601-1668729600-1668815999@evergreenpark.nbed.ca
SUMMARY:November 18th--students stay home--PL for staff
DESCRIPTION:Studnest
URL:https://evergreenpark.nbed.ca/event/november-18th-students-stay-home-pl-for-staff/
END:VEVENT
BEGIN:VEVENT
DTSTART;VALUE=DATE:20221121
DTEND;VALUE=DATE:20221122
DTSTAMP:20260425T221955
CREATED:20221101T135026Z
LAST-MODIFIED:20221101T135026Z
UID:2597-1668988800-1669075199@evergreenpark.nbed.ca
SUMMARY:Picture retakes---November 21st
DESCRIPTION:
URL:https://evergreenpark.nbed.ca/event/picture-retakes-november-21st/
END:VEVENT
BEGIN:VEVENT
DTSTART;TZID=America/Moncton:20221128T080000
DTEND;TZID=America/Moncton:20221208T170000
DTSTAMP:20260425T221955
CREATED:20221127T143548Z
LAST-MODIFIED:20221127T143548Z
UID:2660-1669622400-1670518800@evergreenpark.nbed.ca
SUMMARY:Pajama Rally
DESCRIPTION:
URL:https://evergreenpark.nbed.ca/event/pajama-rally/
END:VEVENT
END:VCALENDAR