BEGIN:VCALENDAR
VERSION:2.0
PRODID:-//Evergreen Park School - ECPv6.15.20//NONSGML v1.0//EN
CALSCALE:GREGORIAN
METHOD:PUBLISH
X-ORIGINAL-URL:https://evergreenpark.nbed.ca
X-WR-CALDESC:Events for Evergreen Park School
REFRESH-INTERVAL;VALUE=DURATION:PT1H
X-Robots-Tag:noindex
X-PUBLISHED-TTL:PT1H
BEGIN:VTIMEZONE
TZID:America/Moncton
BEGIN:DAYLIGHT
TZOFFSETFROM:-0400
TZOFFSETTO:-0300
TZNAME:ADT
DTSTART:20250309T060000
END:DAYLIGHT
BEGIN:STANDARD
TZOFFSETFROM:-0300
TZOFFSETTO:-0400
TZNAME:AST
DTSTART:20251102T050000
END:STANDARD
BEGIN:DAYLIGHT
TZOFFSETFROM:-0400
TZOFFSETTO:-0300
TZNAME:ADT
DTSTART:20260308T060000
END:DAYLIGHT
BEGIN:STANDARD
TZOFFSETFROM:-0300
TZOFFSETTO:-0400
TZNAME:AST
DTSTART:20261101T050000
END:STANDARD
BEGIN:DAYLIGHT
TZOFFSETFROM:-0400
TZOFFSETTO:-0300
TZNAME:ADT
DTSTART:20270314T060000
END:DAYLIGHT
BEGIN:STANDARD
TZOFFSETFROM:-0300
TZOFFSETTO:-0400
TZNAME:AST
DTSTART:20271107T050000
END:STANDARD
END:VTIMEZONE
BEGIN:VEVENT
DTSTART;VALUE=DATE:20260402
DTEND;VALUE=DATE:20260403
DTSTAMP:20260422T204843
CREATED:20250908T000214Z
LAST-MODIFIED:20250908T000214Z
UID:7121-1775088000-1775174399@evergreenpark.nbed.ca
SUMMARY:Workday for Staff/ No school for Students
DESCRIPTION:
URL:https://evergreenpark.nbed.ca/event/workday-for-staff-no-school-for-students-4/
END:VEVENT
BEGIN:VEVENT
DTSTART;VALUE=DATE:20260402
DTEND;VALUE=DATE:20260403
DTSTAMP:20260422T204843
CREATED:20260310T184553Z
LAST-MODIFIED:20260310T184553Z
UID:7333-1775088000-1775174399@evergreenpark.nbed.ca
SUMMARY:No school for students
DESCRIPTION:Students -led conference in the morning\nProfessional learning for staff in the afternoon
URL:https://evergreenpark.nbed.ca/event/no-school-for-students-11/
END:VEVENT
BEGIN:VEVENT
DTSTART;TZID=America/Moncton:20260402T083000
DTEND;TZID=America/Moncton:20260402T113000
DTSTAMP:20260422T204843
CREATED:20260310T184418Z
LAST-MODIFIED:20260310T184418Z
UID:7331-1775118600-1775129400@evergreenpark.nbed.ca
SUMMARY:Student-led conference
DESCRIPTION:
URL:https://evergreenpark.nbed.ca/event/student-led-conference-2/
END:VEVENT
END:VCALENDAR