BEGIN:VCALENDAR
VERSION:2.0
PRODID:-//Evergreen Park School - ECPv6.15.20//NONSGML v1.0//EN
CALSCALE:GREGORIAN
METHOD:PUBLISH
X-ORIGINAL-URL:https://evergreenpark.nbed.ca
X-WR-CALDESC:Events for Evergreen Park School
REFRESH-INTERVAL;VALUE=DURATION:PT1H
X-Robots-Tag:noindex
X-PUBLISHED-TTL:PT1H
BEGIN:VTIMEZONE
TZID:America/Moncton
BEGIN:DAYLIGHT
TZOFFSETFROM:-0400
TZOFFSETTO:-0300
TZNAME:ADT
DTSTART:20250309T060000
END:DAYLIGHT
BEGIN:STANDARD
TZOFFSETFROM:-0300
TZOFFSETTO:-0400
TZNAME:AST
DTSTART:20251102T050000
END:STANDARD
BEGIN:DAYLIGHT
TZOFFSETFROM:-0400
TZOFFSETTO:-0300
TZNAME:ADT
DTSTART:20260308T060000
END:DAYLIGHT
BEGIN:STANDARD
TZOFFSETFROM:-0300
TZOFFSETTO:-0400
TZNAME:AST
DTSTART:20261101T050000
END:STANDARD
BEGIN:DAYLIGHT
TZOFFSETFROM:-0400
TZOFFSETTO:-0300
TZNAME:ADT
DTSTART:20270314T060000
END:DAYLIGHT
BEGIN:STANDARD
TZOFFSETFROM:-0300
TZOFFSETTO:-0400
TZNAME:AST
DTSTART:20271107T050000
END:STANDARD
END:VTIMEZONE
BEGIN:VEVENT
DTSTART;TZID=America/Moncton:20260318T173000
DTEND;TZID=America/Moncton:20260318T193000
DTSTAMP:20260422T223511
CREATED:20260311T125027Z
LAST-MODIFIED:20260311T125027Z
UID:7363-1773855000-1773862200@evergreenpark.nbed.ca
SUMMARY:Movie night---Home and School
DESCRIPTION:
URL:https://evergreenpark.nbed.ca/event/movie-night-home-and-school-2/
END:VEVENT
BEGIN:VEVENT
DTSTART;TZID=America/Moncton:20260318T190000
DTEND;TZID=America/Moncton:20260318T200000
DTSTAMP:20260422T223511
CREATED:20260126T162719Z
LAST-MODIFIED:20260126T162719Z
UID:7295-1773860400-1773864000@evergreenpark.nbed.ca
SUMMARY:PSSC meeting
DESCRIPTION:
URL:https://evergreenpark.nbed.ca/event/pssc-meeting-2/
END:VEVENT
END:VCALENDAR