BEGIN:VCALENDAR
VERSION:2.0
PRODID:-//Evergreen Park School - ECPv6.15.20//NONSGML v1.0//EN
CALSCALE:GREGORIAN
METHOD:PUBLISH
X-ORIGINAL-URL:https://evergreenpark.nbed.ca
X-WR-CALDESC:Events for Evergreen Park School
REFRESH-INTERVAL;VALUE=DURATION:PT1H
X-Robots-Tag:noindex
X-PUBLISHED-TTL:PT1H
BEGIN:VTIMEZONE
TZID:America/Moncton
BEGIN:DAYLIGHT
TZOFFSETFROM:-0400
TZOFFSETTO:-0300
TZNAME:ADT
DTSTART:20250309T060000
END:DAYLIGHT
BEGIN:STANDARD
TZOFFSETFROM:-0300
TZOFFSETTO:-0400
TZNAME:AST
DTSTART:20251102T050000
END:STANDARD
BEGIN:DAYLIGHT
TZOFFSETFROM:-0400
TZOFFSETTO:-0300
TZNAME:ADT
DTSTART:20260308T060000
END:DAYLIGHT
BEGIN:STANDARD
TZOFFSETFROM:-0300
TZOFFSETTO:-0400
TZNAME:AST
DTSTART:20261101T050000
END:STANDARD
BEGIN:DAYLIGHT
TZOFFSETFROM:-0400
TZOFFSETTO:-0300
TZNAME:ADT
DTSTART:20270314T060000
END:DAYLIGHT
BEGIN:STANDARD
TZOFFSETFROM:-0300
TZOFFSETTO:-0400
TZNAME:AST
DTSTART:20271107T050000
END:STANDARD
END:VTIMEZONE
BEGIN:VEVENT
DTSTART;TZID=America/Moncton:20260211T093000
DTEND;TZID=America/Moncton:20260211T120000
DTSTAMP:20260423T002308
CREATED:20260126T163056Z
LAST-MODIFIED:20260126T163056Z
UID:7299-1770802200-1770811200@evergreenpark.nbed.ca
SUMMARY:SpongeBob--musical (BMHS)
DESCRIPTION:Mrs. Dryden’s\, Mme Le Pennec’s and Ms. Whitney’s homerooms will attend SpongeBob—musical at BMHS.
URL:https://evergreenpark.nbed.ca/event/spongebob-musical-bmhs/
END:VEVENT
BEGIN:VEVENT
DTSTART;TZID=America/Moncton:20260211T173000
DTEND;TZID=America/Moncton:20260211T203000
DTSTAMP:20260423T002308
CREATED:20260126T163604Z
LAST-MODIFIED:20260126T163604Z
UID:7303-1770831000-1770841800@evergreenpark.nbed.ca
SUMMARY:Movie Night---Home and School
DESCRIPTION:
URL:https://evergreenpark.nbed.ca/event/movie-night-home-and-school/
END:VEVENT
END:VCALENDAR