BEGIN:VCALENDAR
VERSION:2.0
PRODID:-//Evergreen Park School - ECPv6.15.20//NONSGML v1.0//EN
CALSCALE:GREGORIAN
METHOD:PUBLISH
X-WR-CALNAME:Evergreen Park School
X-ORIGINAL-URL:https://evergreenpark.nbed.ca
X-WR-CALDESC:Events for Evergreen Park School
REFRESH-INTERVAL;VALUE=DURATION:PT1H
X-Robots-Tag:noindex
X-PUBLISHED-TTL:PT1H
BEGIN:VTIMEZONE
TZID:America/Moncton
BEGIN:DAYLIGHT
TZOFFSETFROM:-0400
TZOFFSETTO:-0300
TZNAME:ADT
DTSTART:20230312T060000
END:DAYLIGHT
BEGIN:STANDARD
TZOFFSETFROM:-0300
TZOFFSETTO:-0400
TZNAME:AST
DTSTART:20231105T050000
END:STANDARD
BEGIN:DAYLIGHT
TZOFFSETFROM:-0400
TZOFFSETTO:-0300
TZNAME:ADT
DTSTART:20240310T060000
END:DAYLIGHT
BEGIN:STANDARD
TZOFFSETFROM:-0300
TZOFFSETTO:-0400
TZNAME:AST
DTSTART:20241103T050000
END:STANDARD
BEGIN:DAYLIGHT
TZOFFSETFROM:-0400
TZOFFSETTO:-0300
TZNAME:ADT
DTSTART:20250309T060000
END:DAYLIGHT
BEGIN:STANDARD
TZOFFSETFROM:-0300
TZOFFSETTO:-0400
TZNAME:AST
DTSTART:20251102T050000
END:STANDARD
END:VTIMEZONE
BEGIN:VEVENT
DTSTART;VALUE=DATE:20241121
DTEND;VALUE=DATE:20241122
DTSTAMP:20260423T231413
CREATED:20241114T134332Z
LAST-MODIFIED:20241114T134332Z
UID:6925-1732147200-1732233599@evergreenpark.nbed.ca
SUMMARY:PJ Day - $1.00
DESCRIPTION:
URL:https://evergreenpark.nbed.ca/event/pj-day-1-00/
END:VEVENT
BEGIN:VEVENT
DTSTART;TZID=America/Moncton:20241121T180000
DTEND;TZID=America/Moncton:20241121T200000
DTSTAMP:20260423T231413
CREATED:20241003T145346Z
LAST-MODIFIED:20241003T145346Z
UID:6844-1732212000-1732219200@evergreenpark.nbed.ca
SUMMARY:Chocolate Bar Bingo Night
DESCRIPTION:
URL:https://evergreenpark.nbed.ca/event/chocolate-bar-bingo-night/
END:VEVENT
END:VCALENDAR