BEGIN:VCALENDAR
VERSION:2.0
PRODID:-//Evergreen Park School - ECPv6.15.20//NONSGML v1.0//EN
CALSCALE:GREGORIAN
METHOD:PUBLISH
X-WR-CALNAME:Evergreen Park School
X-ORIGINAL-URL:https://evergreenpark.nbed.ca
X-WR-CALDESC:Events for Evergreen Park School
REFRESH-INTERVAL;VALUE=DURATION:PT1H
X-Robots-Tag:noindex
X-PUBLISHED-TTL:PT1H
BEGIN:VTIMEZONE
TZID:America/Moncton
BEGIN:DAYLIGHT
TZOFFSETFROM:-0400
TZOFFSETTO:-0300
TZNAME:ADT
DTSTART:20230312T060000
END:DAYLIGHT
BEGIN:STANDARD
TZOFFSETFROM:-0300
TZOFFSETTO:-0400
TZNAME:AST
DTSTART:20231105T050000
END:STANDARD
BEGIN:DAYLIGHT
TZOFFSETFROM:-0400
TZOFFSETTO:-0300
TZNAME:ADT
DTSTART:20240310T060000
END:DAYLIGHT
BEGIN:STANDARD
TZOFFSETFROM:-0300
TZOFFSETTO:-0400
TZNAME:AST
DTSTART:20241103T050000
END:STANDARD
BEGIN:DAYLIGHT
TZOFFSETFROM:-0400
TZOFFSETTO:-0300
TZNAME:ADT
DTSTART:20250309T060000
END:DAYLIGHT
BEGIN:STANDARD
TZOFFSETFROM:-0300
TZOFFSETTO:-0400
TZNAME:AST
DTSTART:20251102T050000
END:STANDARD
END:VTIMEZONE
BEGIN:VEVENT
DTSTART;VALUE=DATE:20241031
DTEND;VALUE=DATE:20241101
DTSTAMP:20260424T112629
CREATED:20241021T164708Z
LAST-MODIFIED:20241025T170816Z
UID:6893-1730332800-1730419199@evergreenpark.nbed.ca
SUMMARY:Halloween & Diwali
DESCRIPTION:We are excited to celebrate both Halloween and Diwali at our school. We believe this is a wonderful opportunity to embrace and learn about the diverse cultures and traditions within our community. \nHalloween Celebration: students are welcome to dress up in their Halloween costumes. We encourage costumes that are fun and appropriate for a school setting. Please avoid costumes that may be scary or offensive to others. \nDiwali Celebration: We will also be celebrating Diwali\, the Festival of Lights. Students will have the chance to learn about the significance of Diwali through various activities. We invite students to wear traditional attire if they wish. \nInclusivity and Respect: Our goal is to ensure that all students feel included and respected during these celebrations. For students who do not celebrate Halloween\, or Diwali\, we encourage them to dress in orange\, green or their regular attire. \nEducational Opportunity: We see this as a valuable educational opportunity for students to learn about and appreciate different cultures. We will have discussions and activities that highlight the importance and traditions of both holidays. \nCommunication and Feedback: We value your feedback and suggestions. Please feel free to reach out to us with any questions or concerns. Together\, we can create a respectful and inclusive environment for all our students.
URL:https://evergreenpark.nbed.ca/event/halloween/
END:VEVENT
END:VCALENDAR