BEGIN:VCALENDAR
VERSION:2.0
PRODID:-//Evergreen Park School - ECPv6.15.20//NONSGML v1.0//EN
CALSCALE:GREGORIAN
METHOD:PUBLISH
X-ORIGINAL-URL:https://evergreenpark.nbed.ca
X-WR-CALDESC:Events for Evergreen Park School
REFRESH-INTERVAL;VALUE=DURATION:PT1H
X-Robots-Tag:noindex
X-PUBLISHED-TTL:PT1H
BEGIN:VTIMEZONE
TZID:America/Moncton
BEGIN:DAYLIGHT
TZOFFSETFROM:-0400
TZOFFSETTO:-0300
TZNAME:ADT
DTSTART:20230312T060000
END:DAYLIGHT
BEGIN:STANDARD
TZOFFSETFROM:-0300
TZOFFSETTO:-0400
TZNAME:AST
DTSTART:20231105T050000
END:STANDARD
BEGIN:DAYLIGHT
TZOFFSETFROM:-0400
TZOFFSETTO:-0300
TZNAME:ADT
DTSTART:20240310T060000
END:DAYLIGHT
BEGIN:STANDARD
TZOFFSETFROM:-0300
TZOFFSETTO:-0400
TZNAME:AST
DTSTART:20241103T050000
END:STANDARD
BEGIN:DAYLIGHT
TZOFFSETFROM:-0400
TZOFFSETTO:-0300
TZNAME:ADT
DTSTART:20250309T060000
END:DAYLIGHT
BEGIN:STANDARD
TZOFFSETFROM:-0300
TZOFFSETTO:-0400
TZNAME:AST
DTSTART:20251102T050000
END:STANDARD
END:VTIMEZONE
BEGIN:VEVENT
DTSTART;TZID=America/Moncton:20240229T173000
DTEND;TZID=America/Moncton:20240229T190000
DTSTAMP:20260424T230951
CREATED:20240223T181924Z
LAST-MODIFIED:20240223T181924Z
UID:6534-1709227800-1709233200@evergreenpark.nbed.ca
SUMMARY:Groove and Glow Family Dance
DESCRIPTION:  \nThe Evergreen Park Home and School association will be hosting a Groove and Glow family dance on Thursday\, February 29th. Doors will open at 5:30 p.m. and the event will run until 7:00 p.m. in the school gym. Everyone is encouraged to bring glow sticks! 1 free glow stick will be given with admission only while supplies last. Admission is $3 dollars per child. Glow face paint will be available\, as well as\, a Photo Booth! A small canteen will be open. Everyone is encouraged to wear white or neon colours for maximum glow! Please note parents or guardians must stay with their child for the entire event. \n 
URL:https://evergreenpark.nbed.ca/event/groove-and-glow-family-dance/
END:VEVENT
END:VCALENDAR