BEGIN:VCALENDAR
VERSION:2.0
PRODID:-//Evergreen Park School - ECPv6.15.20//NONSGML v1.0//EN
CALSCALE:GREGORIAN
METHOD:PUBLISH
X-ORIGINAL-URL:https://evergreenpark.nbed.ca
X-WR-CALDESC:Events for Evergreen Park School
REFRESH-INTERVAL;VALUE=DURATION:PT1H
X-Robots-Tag:noindex
X-PUBLISHED-TTL:PT1H
BEGIN:VTIMEZONE
TZID:America/Moncton
BEGIN:DAYLIGHT
TZOFFSETFROM:-0400
TZOFFSETTO:-0300
TZNAME:ADT
DTSTART:20220313T060000
END:DAYLIGHT
BEGIN:STANDARD
TZOFFSETFROM:-0300
TZOFFSETTO:-0400
TZNAME:AST
DTSTART:20221106T050000
END:STANDARD
BEGIN:DAYLIGHT
TZOFFSETFROM:-0400
TZOFFSETTO:-0300
TZNAME:ADT
DTSTART:20230312T060000
END:DAYLIGHT
BEGIN:STANDARD
TZOFFSETFROM:-0300
TZOFFSETTO:-0400
TZNAME:AST
DTSTART:20231105T050000
END:STANDARD
BEGIN:DAYLIGHT
TZOFFSETFROM:-0400
TZOFFSETTO:-0300
TZNAME:ADT
DTSTART:20240310T060000
END:DAYLIGHT
BEGIN:STANDARD
TZOFFSETFROM:-0300
TZOFFSETTO:-0400
TZNAME:AST
DTSTART:20241103T050000
END:STANDARD
END:VTIMEZONE
BEGIN:VEVENT
DTSTART;VALUE=DATE:20230508
DTEND;VALUE=DATE:20230527
DTSTAMP:20260425T103803
CREATED:20230327T235642Z
LAST-MODIFIED:20230327T235642Z
UID:2982-1683504000-1685145599@evergreenpark.nbed.ca
SUMMARY:Grades 4 and 5 provincial assessments
DESCRIPTION:
URL:https://evergreenpark.nbed.ca/event/grades-4-and-5-provincial-assessments/
END:VEVENT
BEGIN:VEVENT
DTSTART;VALUE=DATE:20230519
DTEND;VALUE=DATE:20230520
DTSTAMP:20260425T103803
CREATED:20230507T150538Z
LAST-MODIFIED:20230507T150538Z
UID:2998-1684454400-1684540799@evergreenpark.nbed.ca
SUMMARY:No school for students--NBTA Branch Day/YESS Day for Educational Assistantss
DESCRIPTION:Students stay home. \nTeachers—NBTA Branch Day \nEducational Assitants—YESS DAY
URL:https://evergreenpark.nbed.ca/event/no-school-for-students-nbta-branch-day-yess-day-for-educational-assistantss/
END:VEVENT
END:VCALENDAR