BEGIN:VCALENDAR
VERSION:2.0
PRODID:-//Evergreen Park School - ECPv6.15.20//NONSGML v1.0//EN
CALSCALE:GREGORIAN
METHOD:PUBLISH
X-ORIGINAL-URL:https://evergreenpark.nbed.ca
X-WR-CALDESC:Events for Evergreen Park School
REFRESH-INTERVAL;VALUE=DURATION:PT1H
X-Robots-Tag:noindex
X-PUBLISHED-TTL:PT1H
BEGIN:VTIMEZONE
TZID:America/Moncton
BEGIN:DAYLIGHT
TZOFFSETFROM:-0400
TZOFFSETTO:-0300
TZNAME:ADT
DTSTART:20220313T060000
END:DAYLIGHT
BEGIN:STANDARD
TZOFFSETFROM:-0300
TZOFFSETTO:-0400
TZNAME:AST
DTSTART:20221106T050000
END:STANDARD
BEGIN:DAYLIGHT
TZOFFSETFROM:-0400
TZOFFSETTO:-0300
TZNAME:ADT
DTSTART:20230312T060000
END:DAYLIGHT
BEGIN:STANDARD
TZOFFSETFROM:-0300
TZOFFSETTO:-0400
TZNAME:AST
DTSTART:20231105T050000
END:STANDARD
BEGIN:DAYLIGHT
TZOFFSETFROM:-0400
TZOFFSETTO:-0300
TZNAME:ADT
DTSTART:20240310T060000
END:DAYLIGHT
BEGIN:STANDARD
TZOFFSETFROM:-0300
TZOFFSETTO:-0400
TZNAME:AST
DTSTART:20241103T050000
END:STANDARD
END:VTIMEZONE
BEGIN:VEVENT
DTSTART;VALUE=DATE:20230206
DTEND;VALUE=DATE:20230211
DTSTAMP:20260425T233550
CREATED:20230127T170048Z
LAST-MODIFIED:20230127T170048Z
UID:2756-1675641600-1676073599@evergreenpark.nbed.ca
SUMMARY:Literacy week
DESCRIPTION:
URL:https://evergreenpark.nbed.ca/event/literacy-week/
END:VEVENT
BEGIN:VEVENT
DTSTART;VALUE=DATE:20230206
DTEND;VALUE=DATE:20230211
DTSTAMP:20260425T233550
CREATED:20230127T170510Z
LAST-MODIFIED:20230127T170510Z
UID:2758-1675641600-1676073599@evergreenpark.nbed.ca
SUMMARY:Jump Rope For Heart Week
DESCRIPTION:
URL:https://evergreenpark.nbed.ca/event/jump-rope-for-heart-week/
END:VEVENT
BEGIN:VEVENT
DTSTART;VALUE=DATE:20230210
DTEND;VALUE=DATE:20230211
DTSTAMP:20260425T233550
CREATED:20230205T193919Z
LAST-MODIFIED:20230205T204443Z
UID:2789-1675987200-1676073599@evergreenpark.nbed.ca
SUMMARY:Kick up your heels for reading!
DESCRIPTION:***A CHANGE FROM WHAT WAS SENT HOME PREVIOUSLY \n  \n***Wear your most unique and crazy socks or legwarmers.  Mix and match for even more fun!
URL:https://evergreenpark.nbed.ca/event/kick-up-your-heels-for-reading/
END:VEVENT
BEGIN:VEVENT
DTSTART;TZID=America/Moncton:20230210T183000
DTEND;TZID=America/Moncton:20230210T200000
DTSTAMP:20260425T233550
CREATED:20230127T170747Z
LAST-MODIFIED:20230127T170747Z
UID:2760-1676053800-1676059200@evergreenpark.nbed.ca
SUMMARY:Movie Night--hosted by Home and School
DESCRIPTION:
URL:https://evergreenpark.nbed.ca/event/movie-night-hosted-by-home-and-school/
END:VEVENT
END:VCALENDAR